BEGIN:VCALENDAR
VERSION:2.0
PRODID:-//Fapema - ECPv6.6.2//NONSGML v1.0//EN
CALSCALE:GREGORIAN
METHOD:PUBLISH
X-WR-CALNAME:Fapema
X-ORIGINAL-URL:https://www.fapema.br
X-WR-CALDESC:Eventos para Fapema
REFRESH-INTERVAL;VALUE=DURATION:PT1H
X-Robots-Tag:noindex
X-PUBLISHED-TTL:PT1H
BEGIN:VTIMEZONE
TZID:America/Fortaleza
BEGIN:STANDARD
TZOFFSETFROM:-0300
TZOFFSETTO:-0300
TZNAME:-03
DTSTART:20260101T000000
END:STANDARD
END:VTIMEZONE
BEGIN:VEVENT
DTSTART;TZID=America/Fortaleza:20260202T180000
DTEND;TZID=America/Fortaleza:20260202T190000
DTSTAMP:20260419T202754
CREATED:20260202T145018Z
LAST-MODIFIED:20260202T145020Z
UID:32535-1770055200-1770058800@www.fapema.br
SUMMARY:Cerimônia de entrega da sede oficial da Orquestra filarmônica do Maranhão com a presença de autoridades e músicos
DESCRIPTION:no teatro Artur Azevedo –
URL:https://www.fapema.br/event/cerimonia-de-entrega-da-sede-oficial-da-orquestra-filarmonica-do-maranhao-com-a-presenca-de-autoridades-e-musicos/
END:VEVENT
END:VCALENDAR