BEGIN:VCALENDAR
VERSION:2.0
PRODID:-//Fapema - ECPv6.6.2//NONSGML v1.0//EN
CALSCALE:GREGORIAN
METHOD:PUBLISH
X-WR-CALNAME:Fapema
X-ORIGINAL-URL:https://www.fapema.br
X-WR-CALDESC:Eventos para Fapema
REFRESH-INTERVAL;VALUE=DURATION:PT1H
X-Robots-Tag:noindex
X-PUBLISHED-TTL:PT1H
BEGIN:VTIMEZONE
TZID:America/Fortaleza
BEGIN:STANDARD
TZOFFSETFROM:-0300
TZOFFSETTO:-0300
TZNAME:-03
DTSTART:20260101T000000
END:STANDARD
END:VTIMEZONE
BEGIN:VEVENT
DTSTART;TZID=America/Fortaleza:20260203T090000
DTEND;TZID=America/Fortaleza:20260203T100000
DTSTAMP:20260419T202803
CREATED:20260202T145259Z
LAST-MODIFIED:20260202T145259Z
UID:32539-1770109200-1770112800@www.fapema.br
SUMMARY:Reunião com o vereador licenciado Tiago Reis e atual secretário de juventude do mun. de Colinas
DESCRIPTION:local: FAPEMA
URL:https://www.fapema.br/event/reuniao-com-o-vereador-licenciado-tiago-reis-e-atual-secretario-de-juventude-do-mun-de-colinas/
END:VEVENT
BEGIN:VEVENT
DTSTART;TZID=America/Fortaleza:20260203T150000
DTEND;TZID=America/Fortaleza:20260203T160000
DTSTAMP:20260419T202803
CREATED:20260202T145115Z
LAST-MODIFIED:20260203T155850Z
UID:32537-1770130800-1770134400@www.fapema.br
SUMMARY:Reunião com a secretária Natassia Weba
DESCRIPTION:local: secti
URL:https://www.fapema.br/event/reuniao-com-a-secretaria-natassia-weba/
END:VEVENT
BEGIN:VEVENT
DTSTART;TZID=America/Fortaleza:20260203T160000
DTEND;TZID=America/Fortaleza:20260203T170000
DTSTAMP:20260419T202803
CREATED:20260202T145407Z
LAST-MODIFIED:20260202T145407Z
UID:32541-1770134400-1770138000@www.fapema.br
SUMMARY:entrevista para o Reporter Mirante
DESCRIPTION:local: na FAPEMA
URL:https://www.fapema.br/event/entrevista-para-o-reporter-mirante/
END:VEVENT
END:VCALENDAR