BEGIN:VCALENDAR
VERSION:2.0
PRODID:-//Fapema - ECPv6.6.2//NONSGML v1.0//EN
CALSCALE:GREGORIAN
METHOD:PUBLISH
X-ORIGINAL-URL:https://www.fapema.br
X-WR-CALDESC:Eventos para Fapema
REFRESH-INTERVAL;VALUE=DURATION:PT1H
X-Robots-Tag:noindex
X-PUBLISHED-TTL:PT1H
BEGIN:VTIMEZONE
TZID:America/Fortaleza
BEGIN:STANDARD
TZOFFSETFROM:-0300
TZOFFSETTO:-0300
TZNAME:-03
DTSTART:20260101T000000
END:STANDARD
END:VTIMEZONE
BEGIN:VEVENT
DTSTART;TZID=America/Fortaleza:20260211T080000
DTEND;TZID=America/Fortaleza:20260211T170000
DTSTAMP:20260419T202819
CREATED:20260202T150502Z
LAST-MODIFIED:20260202T150502Z
UID:32549-1770796800-1770829200@www.fapema.br
SUMMARY:7º prêmio SBPC "Carolina Bori & Mulher"
DESCRIPTION:SÃO PAULO
URL:https://www.fapema.br/event/7o-premio-sbpc-carolina-bori-mulher/
END:VEVENT
END:VCALENDAR