BEGIN:VCALENDAR
VERSION:2.0
PRODID:-//Fapema - ECPv6.6.2//NONSGML v1.0//EN
CALSCALE:GREGORIAN
METHOD:PUBLISH
X-ORIGINAL-URL:https://www.fapema.br
X-WR-CALDESC:Eventos para Fapema
REFRESH-INTERVAL;VALUE=DURATION:PT1H
X-Robots-Tag:noindex
X-PUBLISHED-TTL:PT1H
BEGIN:VTIMEZONE
TZID:America/Fortaleza
BEGIN:STANDARD
TZOFFSETFROM:-0300
TZOFFSETTO:-0300
TZNAME:-03
DTSTART:20260101T000000
END:STANDARD
END:VTIMEZONE
BEGIN:VEVENT
DTSTART;TZID=America/Fortaleza:20260223T080000
DTEND;TZID=America/Fortaleza:20260225T170000
DTSTAMP:20260419T202820
CREATED:20260202T150637Z
LAST-MODIFIED:20260202T150637Z
UID:32553-1771833600-1772038800@www.fapema.br
SUMMARY:Reunião de trabalho: Invest Rio
DESCRIPTION:Rio de Janeiro
URL:https://www.fapema.br/event/reuniao-de-trabalho-invest-rio/
END:VEVENT
END:VCALENDAR