BEGIN:VCALENDAR
VERSION:2.0
PRODID:-//Fapema - ECPv6.6.2//NONSGML v1.0//EN
CALSCALE:GREGORIAN
METHOD:PUBLISH
X-ORIGINAL-URL:https://www.fapema.br
X-WR-CALDESC:Eventos para Fapema
REFRESH-INTERVAL;VALUE=DURATION:PT1H
X-Robots-Tag:noindex
X-PUBLISHED-TTL:PT1H
BEGIN:VTIMEZONE
TZID:America/Fortaleza
BEGIN:STANDARD
TZOFFSETFROM:-0300
TZOFFSETTO:-0300
TZNAME:-03
DTSTART:20260101T000000
END:STANDARD
END:VTIMEZONE
BEGIN:VEVENT
DTSTART;TZID=America/Fortaleza:20260329T080000
DTEND;TZID=America/Fortaleza:20260331T170000
DTSTAMP:20260419T130644
CREATED:20260326T152742Z
LAST-MODIFIED:20260326T152742Z
UID:33018-1774771200-1774976400@www.fapema.br
SUMMARY:Participação na Aula Inaugural do Mestrado em Estudos da Linguagem\, PPGEL – UEMA Campus Balsas – MA
DESCRIPTION:29/03 – deslocamento; 30/03 – evento; 31/03 – deslocamento
URL:https://www.fapema.br/event/participacao-na-aula-inaugural-do-mestrado-em-estudos-da-linguagem-ppgel-uema-campus-balsas-ma/
END:VEVENT
BEGIN:VEVENT
DTSTART;TZID=America/Fortaleza:20260330T140000
DTEND;TZID=America/Fortaleza:20260330T170000
DTSTAMP:20260419T130644
CREATED:20260326T153227Z
LAST-MODIFIED:20260326T153227Z
UID:33020-1774879200-1774890000@www.fapema.br
SUMMARY:REUNIÃO DA ASSEMBLEIA GERAL DO CONFAP (HIBRIDA)
DESCRIPTION:REUNIÃO PELO LINK QUE SERÁ DISPONIBILIZADO 30 MIN ANTES DA REUNIÃO POR E-MAIL.
URL:https://www.fapema.br/event/reuniao-da-assembleia-geral-do-confap-hibrida/
END:VEVENT
END:VCALENDAR