BEGIN:VCALENDAR
VERSION:2.0
PRODID:-//Fapema - ECPv6.6.2//NONSGML v1.0//EN
CALSCALE:GREGORIAN
METHOD:PUBLISH
X-WR-CALNAME:Fapema
X-ORIGINAL-URL:https://www.fapema.br
X-WR-CALDESC:Eventos para Fapema
REFRESH-INTERVAL;VALUE=DURATION:PT1H
X-Robots-Tag:noindex
X-PUBLISHED-TTL:PT1H
BEGIN:VTIMEZONE
TZID:America/Fortaleza
BEGIN:STANDARD
TZOFFSETFROM:-0300
TZOFFSETTO:-0300
TZNAME:-03
DTSTART:20260101T000000
END:STANDARD
END:VTIMEZONE
BEGIN:VEVENT
DTSTART;TZID=America/Fortaleza:20260209T140000
DTEND;TZID=America/Fortaleza:20260209T160000
DTSTAMP:20260419T233220
CREATED:20260202T150145Z
LAST-MODIFIED:20260202T150145Z
UID:32545-1770645600-1770652800@www.fapema.br
SUMMARY:Visita Técnica ao parque de inovação Tecnológica de São José dos Campos - PIT
DESCRIPTION:
URL:https://www.fapema.br/event/visita-tecnica-ao-parque-de-inovacao-tecnologica-de-sao-jose-dos-campos-pit/
END:VEVENT
BEGIN:VEVENT
DTSTART;TZID=America/Fortaleza:20260210T080000
DTEND;TZID=America/Fortaleza:20260210T170000
DTSTAMP:20260419T233220
CREATED:20260202T150403Z
LAST-MODIFIED:20260202T150403Z
UID:32547-1770710400-1770742800@www.fapema.br
SUMMARY:Reunião SBPC
DESCRIPTION:São Paulo
URL:https://www.fapema.br/event/reuniao-sbpc/
END:VEVENT
BEGIN:VEVENT
DTSTART;TZID=America/Fortaleza:20260211T080000
DTEND;TZID=America/Fortaleza:20260211T170000
DTSTAMP:20260419T233220
CREATED:20260202T150502Z
LAST-MODIFIED:20260202T150502Z
UID:32549-1770796800-1770829200@www.fapema.br
SUMMARY:7º prêmio SBPC "Carolina Bori & Mulher"
DESCRIPTION:SÃO PAULO
URL:https://www.fapema.br/event/7o-premio-sbpc-carolina-bori-mulher/
END:VEVENT
BEGIN:VEVENT
DTSTART;TZID=America/Fortaleza:20260212T080000
DTEND;TZID=America/Fortaleza:20260212T170000
DTSTAMP:20260419T233220
CREATED:20260202T150532Z
LAST-MODIFIED:20260202T150715Z
UID:32551-1770883200-1770915600@www.fapema.br
SUMMARY:Reunião de trabalho em São Paulo - SBPC
DESCRIPTION:
URL:https://www.fapema.br/event/viagem-sao-paulo/
END:VEVENT
BEGIN:VEVENT
DTSTART;TZID=America/Fortaleza:20260223T080000
DTEND;TZID=America/Fortaleza:20260225T170000
DTSTAMP:20260419T233220
CREATED:20260202T150637Z
LAST-MODIFIED:20260202T150637Z
UID:32553-1771833600-1772038800@www.fapema.br
SUMMARY:Reunião de trabalho: Invest Rio
DESCRIPTION:Rio de Janeiro
URL:https://www.fapema.br/event/reuniao-de-trabalho-invest-rio/
END:VEVENT
BEGIN:VEVENT
DTSTART;TZID=America/Fortaleza:20260305T150000
DTEND;TZID=America/Fortaleza:20260305T170000
DTSTAMP:20260419T233220
CREATED:20260227T191523Z
LAST-MODIFIED:20260227T191523Z
UID:32716-1772722800-1772730000@www.fapema.br
SUMMARY:Participação do presidente na abertura oficial da 3ª edição da Feira da mulher
DESCRIPTION:O evento será promovido pela SAF. Local: São Luís Shopping
URL:https://www.fapema.br/event/participacao-do-presidente-na-abertura-oficial-da-3a-edicao-da-feira-da-mulher/
END:VEVENT
BEGIN:VEVENT
DTSTART;TZID=America/Fortaleza:20260312T080000
DTEND;TZID=America/Fortaleza:20260312T170000
DTSTAMP:20260419T233220
CREATED:20260311T171445Z
LAST-MODIFIED:20260311T172222Z
UID:32756-1773302400-1773334800@www.fapema.br
SUMMARY:Participação na abertura da Expo Turismo Maranhão 2026
DESCRIPTION:dia 12 de março de 2026\, às 17h\, no Ceprama.
URL:https://www.fapema.br/event/participacao-na-abertura-da-expo-turismo-maranhao-2026/
END:VEVENT
BEGIN:VEVENT
DTSTART;TZID=America/Fortaleza:20260316T080000
DTEND;TZID=America/Fortaleza:20260316T170000
DTSTAMP:20260419T233220
CREATED:20260311T170800Z
LAST-MODIFIED:20260311T170800Z
UID:32754-1773648000-1773680400@www.fapema.br
SUMMARY:Participação na Abertura Oficial do II Workshop PROMARES
DESCRIPTION: dia 16 de março de 2026
URL:https://www.fapema.br/event/participacao-na-abertura-oficial-do-ii-workshop-promares/
END:VEVENT
BEGIN:VEVENT
DTSTART;TZID=America/Fortaleza:20260316T190000
DTEND;TZID=America/Fortaleza:20260316T210000
DTSTAMP:20260419T233220
CREATED:20260316T181902Z
LAST-MODIFIED:20260316T181902Z
UID:32813-1773687600-1773694800@www.fapema.br
SUMMARY:Participação na posse do Governador Carlos Brandão no Consórcio Interestadual da Amazonia Legal
DESCRIPTION:Local: Blue Tree
URL:https://www.fapema.br/event/participacao-na-posse-do-governador-carlos-brandao-no-consorcio-interestadual-da-amazonia-legal/
END:VEVENT
BEGIN:VEVENT
DTSTART;TZID=America/Fortaleza:20260317T103000
DTEND;TZID=America/Fortaleza:20260317T120000
DTSTAMP:20260419T233220
CREATED:20260311T172531Z
LAST-MODIFIED:20260311T172531Z
UID:32758-1773743400-1773748800@www.fapema.br
SUMMARY:REUNIÃO COM O PRESIDENTE DA AGED
DESCRIPTION:NA FAPEMA
URL:https://www.fapema.br/event/reuniao-com-o-presidente-da-aged/
END:VEVENT
BEGIN:VEVENT
DTSTART;TZID=America/Fortaleza:20260319T140000
DTEND;TZID=America/Fortaleza:20260319T170000
DTSTAMP:20260419T233220
CREATED:20260311T172801Z
LAST-MODIFIED:20260311T172801Z
UID:32760-1773928800-1773939600@www.fapema.br
SUMMARY:ABERTURA DA 1ª JORNADA DE INOVAÇÃO DA AGRICULTURA FAMILIAR DA SAF
DESCRIPTION:LOCAL: PALÁCIO HENRIQUE DE LA ROQUE
URL:https://www.fapema.br/event/abertura-da-1a-jornada-de-inovacao-da-agricultura-familiar-da-saf/
END:VEVENT
BEGIN:VEVENT
DTSTART;TZID=America/Fortaleza:20260320T080000
DTEND;TZID=America/Fortaleza:20260320T170000
DTSTAMP:20260419T233220
CREATED:20260311T173115Z
LAST-MODIFIED:20260311T173115Z
UID:32762-1773993600-1774026000@www.fapema.br
SUMMARY:participação no Lançamento do Edital da Rede de Pesquisa e Desenvolvimento da Amazônia Legal
DESCRIPTION:Universidade Federal de Rondônia (UNIR) em Porto Velho – RO
URL:https://www.fapema.br/event/participacao-no-lancamento-do-edital-da-rede-de-pesquisa-e-desenvolvimento-da-amazonia-legal/
END:VEVENT
BEGIN:VEVENT
DTSTART;TZID=America/Fortaleza:20260322T080000
DTEND;TZID=America/Fortaleza:20260324T170000
DTSTAMP:20260419T233220
CREATED:20260320T161251Z
LAST-MODIFIED:20260320T161251Z
UID:32884-1774166400-1774371600@www.fapema.br
SUMMARY:participação na Sessão Solene Comemorativa dos 75 anos de Fundação do CNPq
DESCRIPTION:ocorrerá no dia 23 de março de 2026\, na Sala Martins Pena – Teatro Nacional Cláudio Santoro\, Setor de do Teatro Sul\, Plano Piloto – Brasília – DF. O deslocamento está previsto para o dia 22 de março\, com retorno no dia 24 de março de 2026
URL:https://www.fapema.br/event/participacao-na-sessao-solene-comemorativa-dos-75-anos-de-fundacao-do-cnpq-2/
END:VEVENT
BEGIN:VEVENT
DTSTART;TZID=America/Fortaleza:20260323T080000
DTEND;TZID=America/Fortaleza:20260323T170000
DTSTAMP:20260419T233220
CREATED:20260311T173349Z
LAST-MODIFIED:20260311T173349Z
UID:32764-1774252800-1774285200@www.fapema.br
SUMMARY:Participação na Sessão Solene Comemorativa dos 75 anos de Fundação do CNPq
DESCRIPTION:Sala Martins Pena – Teatro Nacional Cláudio Santoro\, Setor de do Teatro Sul\, Plano Piloto – Brasília – DF
URL:https://www.fapema.br/event/participacao-na-sessao-solene-comemorativa-dos-75-anos-de-fundacao-do-cnpq/
END:VEVENT
BEGIN:VEVENT
DTSTART;TZID=America/Fortaleza:20260323T080000
DTEND;TZID=America/Fortaleza:20260323T170000
DTSTAMP:20260419T233220
CREATED:20260320T163134Z
LAST-MODIFIED:20260320T163134Z
UID:32888-1774252800-1774285200@www.fapema.br
SUMMARY:Reunião Virtual do Conselho fiscal do Confap
DESCRIPTION:Microsoft teams
URL:https://www.fapema.br/event/reuniao-virtual-do-conselho-fiscal-do-confap/
END:VEVENT
BEGIN:VEVENT
DTSTART;TZID=America/Fortaleza:20260324T080000
DTEND;TZID=America/Fortaleza:20260326T170000
DTSTAMP:20260419T233220
CREATED:20260320T163237Z
LAST-MODIFIED:20260320T180849Z
UID:32890-1774339200-1774544400@www.fapema.br
SUMMARY:Participação no Congresso de Saúde coletiva
DESCRIPTION:Multicenter SEBRAE
URL:https://www.fapema.br/event/participacao-no-congresso-de-saude-coletiva/
END:VEVENT
BEGIN:VEVENT
DTSTART;TZID=America/Fortaleza:20260324T160000
DTEND;TZID=America/Fortaleza:20260324T170000
DTSTAMP:20260419T233220
CREATED:20260323T195225Z
LAST-MODIFIED:20260323T195225Z
UID:32960-1774368000-1774371600@www.fapema.br
SUMMARY:Reunião com a assessora jurídica do gab. do governador
DESCRIPTION:Local: FAPEMA\, às 16h
URL:https://www.fapema.br/event/reuniao-com-a-assessora-juridica-do-gab-do-governador/
END:VEVENT
BEGIN:VEVENT
DTSTART;TZID=America/Fortaleza:20260325T090000
DTEND;TZID=America/Fortaleza:20260325T110000
DTSTAMP:20260419T233220
CREATED:20260311T173903Z
LAST-MODIFIED:20260311T173903Z
UID:32766-1774429200-1774436400@www.fapema.br
SUMMARY:Participação no Lançamento do Marco Legal
DESCRIPTION:Local: Auditório da Defensoria Pública do Maranhão
URL:https://www.fapema.br/event/participacao-no-lancamento-do-marco-legal/
END:VEVENT
BEGIN:VEVENT
DTSTART;TZID=America/Fortaleza:20260326T103000
DTEND;TZID=America/Fortaleza:20260326T170000
DTSTAMP:20260419T233220
CREATED:20260320T165236Z
LAST-MODIFIED:20260320T165236Z
UID:32894-1774521000-1774544400@www.fapema.br
SUMMARY:Participação no evento de pesquisa\, extenção e inovação: Palestra capovilla
DESCRIPTION:Auditório Sergio Ferreti. no prédio do CEB velho\, UFMA
URL:https://www.fapema.br/event/participacao-no-evento-de-pesquisa-extencao-e-inovacao-palestra-capovilla/
END:VEVENT
BEGIN:VEVENT
DTSTART;TZID=America/Fortaleza:20260326T160000
DTEND;TZID=America/Fortaleza:20260326T180000
DTSTAMP:20260419T233220
CREATED:20260326T151716Z
LAST-MODIFIED:20260326T151716Z
UID:33016-1774540800-1774548000@www.fapema.br
SUMMARY:Participação em evento institucional de apresentação de resultados e lançamentos estratégicos da SECTI
DESCRIPTION:
URL:https://www.fapema.br/event/participacao-em-evento-institucional-de-apresentacao-de-resultados-e-lancamentos-estrategicos-da-secti/
END:VEVENT
BEGIN:VEVENT
DTSTART;TZID=America/Fortaleza:20260327T080000
DTEND;TZID=America/Fortaleza:20260327T100000
DTSTAMP:20260419T233220
CREATED:20260320T175935Z
LAST-MODIFIED:20260320T175935Z
UID:32896-1774598400-1774605600@www.fapema.br
SUMMARY:Reunião com o sr. André Araujo\, Superintendente de Gestão ambiental da UEMA
DESCRIPTION:LOCAL: FAPEMA
URL:https://www.fapema.br/event/reuniao-com-o-sr-andre-araujo-superintendente-de-gestao-ambiental-da-uema/
END:VEVENT
BEGIN:VEVENT
DTSTART;TZID=America/Fortaleza:20260327T100000
DTEND;TZID=America/Fortaleza:20260327T120000
DTSTAMP:20260419T233220
CREATED:20260320T180259Z
LAST-MODIFIED:20260320T180259Z
UID:32906-1774605600-1774612800@www.fapema.br
SUMMARY:Reunião com o prof. Romulo Gomes
DESCRIPTION:Reunião com o prof. Romulo Gomes\, para tratar sobre o primeiro seminário de jornalismo de ciência tecnológica e inovação.
URL:https://www.fapema.br/event/reuniao-com-o-prof-romulo-gomes/
END:VEVENT
BEGIN:VEVENT
DTSTART;TZID=America/Fortaleza:20260327T140000
DTEND;TZID=America/Fortaleza:20260327T180000
DTSTAMP:20260419T233220
CREATED:20260320T180616Z
LAST-MODIFIED:20260320T180616Z
UID:32912-1774620000-1774634400@www.fapema.br
SUMMARY:Participação no Evento de Lançamento do balanço cidadão
DESCRIPTION:Local: Auditório Palácio Henrique de la Roque
URL:https://www.fapema.br/event/participacao-no-evento-de-lancamento-do-balanco-cidadao/
END:VEVENT
BEGIN:VEVENT
DTSTART;TZID=America/Fortaleza:20260329T080000
DTEND;TZID=America/Fortaleza:20260331T170000
DTSTAMP:20260419T233220
CREATED:20260326T152742Z
LAST-MODIFIED:20260326T152742Z
UID:33018-1774771200-1774976400@www.fapema.br
SUMMARY:Participação na Aula Inaugural do Mestrado em Estudos da Linguagem\, PPGEL – UEMA Campus Balsas – MA
DESCRIPTION:29/03 – deslocamento; 30/03 – evento; 31/03 – deslocamento
URL:https://www.fapema.br/event/participacao-na-aula-inaugural-do-mestrado-em-estudos-da-linguagem-ppgel-uema-campus-balsas-ma/
END:VEVENT
BEGIN:VEVENT
DTSTART;TZID=America/Fortaleza:20260330T140000
DTEND;TZID=America/Fortaleza:20260330T170000
DTSTAMP:20260419T233220
CREATED:20260326T153227Z
LAST-MODIFIED:20260326T153227Z
UID:33020-1774879200-1774890000@www.fapema.br
SUMMARY:REUNIÃO DA ASSEMBLEIA GERAL DO CONFAP (HIBRIDA)
DESCRIPTION:REUNIÃO PELO LINK QUE SERÁ DISPONIBILIZADO 30 MIN ANTES DA REUNIÃO POR E-MAIL.
URL:https://www.fapema.br/event/reuniao-da-assembleia-geral-do-confap-hibrida/
END:VEVENT
BEGIN:VEVENT
DTSTART;TZID=America/Fortaleza:20260407T080000
DTEND;TZID=America/Fortaleza:20260410T170000
DTSTAMP:20260419T233220
CREATED:20260320T161453Z
LAST-MODIFIED:20260320T161453Z
UID:32886-1775548800-1775840400@www.fapema.br
SUMMARY:participação no Encontro Regional de Treinamento dos Comitês de ética em Pesquisa (CEPs)
DESCRIPTION:08 e 09 de abril de 2026\, na Universidade Nove de Julho (UNINOVE). O deslocamento está previsto para o dia 07 de abril\, com retorno no dia 10 de abril
URL:https://www.fapema.br/event/participacao-no-encontro-regional-de-treinamento-dos-comites-de-etica-em-pesquisa-ceps/
END:VEVENT
BEGIN:VEVENT
DTSTART;TZID=America/Fortaleza:20260413T080000
DTEND;TZID=America/Fortaleza:20260413T170000
DTSTAMP:20260419T233220
CREATED:20260413T152300Z
LAST-MODIFIED:20260413T152300Z
UID:33185-1776067200-1776099600@www.fapema.br
SUMMARY:Deslocamento para Imperatriz – MA
DESCRIPTION:
URL:https://www.fapema.br/event/deslocamento-para-imperatriz-ma/
END:VEVENT
BEGIN:VEVENT
DTSTART;TZID=America/Fortaleza:20260414T080000
DTEND;TZID=America/Fortaleza:20260416T170000
DTSTAMP:20260419T233220
CREATED:20260413T152454Z
LAST-MODIFIED:20260413T152454Z
UID:33187-1776153600-1776358800@www.fapema.br
SUMMARY:Participação Cerimônia de lançamento do Edital Produtividade\, Divulgação de Projeto e Realização de Curso\, em Imperatriz – MA
DESCRIPTION:
URL:https://www.fapema.br/event/participacao-cerimonia-de-lancamento-do-edital-produtividade-divulgacao-de-projeto-e-realizacao-de-curso-em-imperatriz-ma/
END:VEVENT
BEGIN:VEVENT
DTSTART;TZID=America/Fortaleza:20260417T080000
DTEND;TZID=America/Fortaleza:20260417T170000
DTSTAMP:20260419T233220
CREATED:20260413T152609Z
LAST-MODIFIED:20260413T152609Z
UID:33189-1776412800-1776445200@www.fapema.br
SUMMARY:Visita técnica a Centro Universitário de Balsas - Unibalsas
DESCRIPTION:
URL:https://www.fapema.br/event/visita-tecnica-a-centro-universitario-de-balsas-unibalsas/
END:VEVENT
BEGIN:VEVENT
DTSTART;TZID=America/Fortaleza:20260422T080000
DTEND;TZID=America/Fortaleza:20260422T170000
DTSTAMP:20260419T233220
CREATED:20260416T165424Z
LAST-MODIFIED:20260416T165424Z
UID:33262-1776844800-1776877200@www.fapema.br
SUMMARY:Participação na Conferência Estadual dos Objetivos de Desenvolvimento Sustentável (ODS)
DESCRIPTION:
URL:https://www.fapema.br/event/participacao-na-conferencia-estadual-dos-objetivos-de-desenvolvimento-sustentavel-ods/
END:VEVENT
END:VCALENDAR